BEGIN:VCALENDAR
VERSION:2.0
PRODID:-//THRAIF | Securing Sustainable Transformations - ECPv6.9.0//NONSGML v1.0//EN
CALSCALE:GREGORIAN
METHOD:PUBLISH
X-ORIGINAL-URL:https://thrive.ac.ug
X-WR-CALDESC:Events for THRAIF | Securing Sustainable Transformations
REFRESH-INTERVAL;VALUE=DURATION:PT1H
X-Robots-Tag:noindex
X-PUBLISHED-TTL:PT1H
BEGIN:VTIMEZONE
TZID:UTC
BEGIN:STANDARD
TZOFFSETFROM:+0000
TZOFFSETTO:+0000
TZNAME:UTC
DTSTART:20250101T000000
END:STANDARD
END:VTIMEZONE
BEGIN:VEVENT
DTSTART;TZID=UTC:20250701T080000
DTEND;TZID=UTC:20250701T170000
DTSTAMP:20260423T220519
CREATED:20250602T092549Z
LAST-MODIFIED:20250602T092643Z
UID:2774-1751356800-1751389200@thrive.ac.ug
SUMMARY:Budget Conference-First week of July
DESCRIPTION:Budget Conference
URL:https://thrive.ac.ug/event/budget-conference/
END:VEVENT
END:VCALENDAR