BEGIN:VCALENDAR
VERSION:2.0
PRODID:-//THRAIF | Securing Sustainable Transformations - ECPv6.9.0//NONSGML v1.0//EN
CALSCALE:GREGORIAN
METHOD:PUBLISH
X-WR-CALNAME:THRAIF | Securing Sustainable Transformations
X-ORIGINAL-URL:https://thrive.ac.ug
X-WR-CALDESC:Events for THRAIF | Securing Sustainable Transformations
REFRESH-INTERVAL;VALUE=DURATION:PT1H
X-Robots-Tag:noindex
X-PUBLISHED-TTL:PT1H
BEGIN:VTIMEZONE
TZID:UTC
BEGIN:STANDARD
TZOFFSETFROM:+0000
TZOFFSETTO:+0000
TZNAME:UTC
DTSTART:20260101T000000
END:STANDARD
END:VTIMEZONE
BEGIN:VEVENT
DTSTART;TZID=UTC:20260201T090000
DTEND;TZID=UTC:20260201T120000
DTSTAMP:20260419T143048
CREATED:20260120T103751Z
LAST-MODIFIED:20260120T103751Z
UID:3985-1769936400-1769947200@thrive.ac.ug
SUMMARY:ECD Seminar Series
DESCRIPTION:The ECD Seminar Series will run every first Sunday of the Month starting with 1st February 2026.
URL:https://thrive.ac.ug/event/ecd-seminar-series/
ORGANIZER;CN="THRAIF-THRIVE Research and Innovations Facility":MAILTO:faida@thrive.ac.ug
END:VEVENT
END:VCALENDAR