BEGIN:VCALENDAR
VERSION:2.0
PRODID:-//THRAIF | Securing Sustainable Transformations - ECPv6.9.0//NONSGML v1.0//EN
CALSCALE:GREGORIAN
METHOD:PUBLISH
X-WR-CALNAME:THRAIF | Securing Sustainable Transformations
X-ORIGINAL-URL:https://thrive.ac.ug
X-WR-CALDESC:Events for THRAIF | Securing Sustainable Transformations
REFRESH-INTERVAL;VALUE=DURATION:PT1H
X-Robots-Tag:noindex
X-PUBLISHED-TTL:PT1H
BEGIN:VTIMEZONE
TZID:UTC
BEGIN:STANDARD
TZOFFSETFROM:+0000
TZOFFSETTO:+0000
TZNAME:UTC
DTSTART:20260101T000000
END:STANDARD
END:VTIMEZONE
BEGIN:VEVENT
DTSTART;TZID=UTC:20260430T080000
DTEND;TZID=UTC:20260930T170000
DTSTAMP:20260419T143032
CREATED:20260329T183306Z
LAST-MODIFIED:20260329T183306Z
UID:4032-1777536000-1790787600@thrive.ac.ug
SUMMARY:FAIDA 3 Conference Call for Abstracts
DESCRIPTION:FAIDA 3 Conference Call for Abstracts |The first deadline is 30 April 2026\, and the second one is 30 September 2026
URL:https://thrive.ac.ug/event/faida-3-conference-call-for-abstracts/
END:VEVENT
BEGIN:VEVENT
DTSTART;VALUE=DATE:20260627
DTEND;VALUE=DATE:20260628
DTSTAMP:20260419T143032
CREATED:20260329T125620Z
LAST-MODIFIED:20260329T130132Z
UID:4008-1782518400-1782604799@thrive.ac.ug
SUMMARY:Busongora North FAIDA 3 Championship
DESCRIPTION:Busongora North FAIDA 3 Championship \n| Venue Mubuku Valley SS \n|Date: 27 June 2026.
URL:https://thrive.ac.ug/event/faida-3-championship/
LOCATION:Mubuku Valley SS
END:VEVENT
END:VCALENDAR