BEGIN:VCALENDAR
VERSION:2.0
PRODID:-//THRAIF | Securing Sustainable Transformations - ECPv6.9.0//NONSGML v1.0//EN
CALSCALE:GREGORIAN
METHOD:PUBLISH
X-ORIGINAL-URL:https://thrive.ac.ug
X-WR-CALDESC:Events for THRAIF | Securing Sustainable Transformations
REFRESH-INTERVAL;VALUE=DURATION:PT1H
X-Robots-Tag:noindex
X-PUBLISHED-TTL:PT1H
BEGIN:VTIMEZONE
TZID:UTC
BEGIN:STANDARD
TZOFFSETFROM:+0000
TZOFFSETTO:+0000
TZNAME:UTC
DTSTART:20260101T000000
END:STANDARD
END:VTIMEZONE
BEGIN:VEVENT
DTSTART;VALUE=DATE:20261129
DTEND;VALUE=DATE:20261130
DTSTAMP:20260423T104753
CREATED:20260329T183132Z
LAST-MODIFIED:20260329T183132Z
UID:4030-1795910400-1795996799@thrive.ac.ug
SUMMARY:Invitation to FAIDA 3 Championships
DESCRIPTION:Invitation to FAIDA 3 Championships |Who to schools and higher institutions to participate in FAIDA 3 Championships: Debate\, Innovative Science\, and MDD.
URL:https://thrive.ac.ug/event/invitation-to-faida-3-championships/
END:VEVENT
END:VCALENDAR